BEGIN:VCALENDAR
VERSION:2.0
PRODID:-//wp-events-plugin.com//7.2.3.1//EN
TZID:America/New_York
X-WR-TIMEZONE:America/New_York
BEGIN:VEVENT
UID:218@doylestownphotoclub.org
DTSTART;TZID=America/New_York:20250219T100000
DTEND;TZID=America/New_York:20250219T130000
DTSTAMP:20250207T010301Z
URL:https://doylestownphotoclub.org/events/adventure-aquarium
SUMMARY:Adventure Aquarium
DESCRIPTION:A day of  photographing sea life!
CATEGORIES:MeetUp
LOCATION:Adventure Aquarium\, 1 Riverside Drive\, Camden\, NJ\, 08103\, Uni
 ted States
GEO:39.946037;-75.131005
X-APPLE-STRUCTURED-LOCATION;VALUE=URI;X-ADDRESS=1 Riverside Drive\, Camden\
 , NJ\, 08103\, United States;X-APPLE-RADIUS=100;X-TITLE=Adventure Aquarium
 :geo:39.946037,-75.131005
END:VEVENT
BEGIN:VTIMEZONE
TZID:America/New_York
X-LIC-LOCATION:America/New_York
BEGIN:STANDARD
DTSTART:20241103T010000
TZOFFSETFROM:-0400
TZOFFSETTO:-0500
TZNAME:EST
END:STANDARD
END:VTIMEZONE
END:VCALENDAR