BEGIN:VCALENDAR
VERSION:2.0
PRODID:-//wp-events-plugin.com//7.2.3.1//EN
TZID:America/New_York
X-WR-TIMEZONE:America/New_York
BEGIN:VEVENT
UID:212@doylestownphotoclub.org
DTSTART;TZID=America/New_York;VALUE=DATE:20250906
DTEND;TZID=America/New_York;VALUE=DATE:20250908
DTSTAMP:20250816T112354Z
URL:https://doylestownphotoclub.org/events/doylestown-arts-festival
SUMMARY:Doylestown Arts Festival- Registration Required
DESCRIPTION:Meetup
CATEGORIES:Event,MeetUp
LOCATION:Doylestown Arts Festival\, 49 e state street\, Doylestown\, United
  States
GEO:40.310678;-75.129392
X-APPLE-STRUCTURED-LOCATION;VALUE=URI;X-ADDRESS=49 e state street\, Doylest
 own\, United States;X-APPLE-RADIUS=100;X-TITLE=Doylestown Arts Festival:ge
 o:40.310678,-75.129392
END:VEVENT
BEGIN:VTIMEZONE
TZID:America/New_York
X-LIC-LOCATION:America/New_York
BEGIN:DAYLIGHT
DTSTART:20250309T030000
TZOFFSETFROM:-0500
TZOFFSETTO:-0400
TZNAME:EDT
END:DAYLIGHT
END:VTIMEZONE
END:VCALENDAR